BEGIN:VCALENDAR
VERSION:2.0
PRODID:-//Fiat Club America - Green &amp; White Mountains - ECPv6.15.20//NONSGML v1.0//EN
CALSCALE:GREGORIAN
METHOD:PUBLISH
X-WR-CALNAME:Fiat Club America - Green &amp; White Mountains
X-ORIGINAL-URL:http://fiatclubgwm.com
X-WR-CALDESC:Events for Fiat Club America - Green &amp; White Mountains
REFRESH-INTERVAL;VALUE=DURATION:PT1H
X-Robots-Tag:noindex
X-PUBLISHED-TTL:PT1H
BEGIN:VTIMEZONE
TZID:America/Halifax
BEGIN:DAYLIGHT
TZOFFSETFROM:-0400
TZOFFSETTO:-0300
TZNAME:ADT
DTSTART:20240310T060000
END:DAYLIGHT
BEGIN:STANDARD
TZOFFSETFROM:-0300
TZOFFSETTO:-0400
TZNAME:AST
DTSTART:20241103T050000
END:STANDARD
BEGIN:DAYLIGHT
TZOFFSETFROM:-0400
TZOFFSETTO:-0300
TZNAME:ADT
DTSTART:20250309T060000
END:DAYLIGHT
BEGIN:STANDARD
TZOFFSETFROM:-0300
TZOFFSETTO:-0400
TZNAME:AST
DTSTART:20251102T050000
END:STANDARD
BEGIN:DAYLIGHT
TZOFFSETFROM:-0400
TZOFFSETTO:-0300
TZNAME:ADT
DTSTART:20260308T060000
END:DAYLIGHT
BEGIN:STANDARD
TZOFFSETFROM:-0300
TZOFFSETTO:-0400
TZNAME:AST
DTSTART:20261101T050000
END:STANDARD
END:VTIMEZONE
BEGIN:VEVENT
DTSTART;VALUE=DATE:20250726
DTEND;VALUE=DATE:20250727
DTSTAMP:20260425T081803
CREATED:20250302T133144Z
LAST-MODIFIED:20250721T005145Z
UID:1116-1753488000-1753574399@fiatclubgwm.com
SUMMARY:Rochester/Conway Drive / Lunch
DESCRIPTION:Meet: 9:00 AM at Dunkin’s 303 N Main St\, Rochester\, NH 03867 (Exit 14\, Ten Rod Rd or Exit 15\, RT 11 of RT 16) \nDepart: 9:15 for a cruise on fun back roads leading to Bear Notch Rd and Conway for Lunch. \nLunch: Lobster Trap\, 2840 West Side Rd\, North Conway\, NH 03860 (A Seafood Steak & Italian Restaurant) \nAfter lunch: We’ll continue our cruise to Rochester via back roads in the Lake Winnipesaukee area.
URL:http://fiatclubgwm.com/event/farmington-conway-drive-lunch
LOCATION:NH
END:VEVENT
END:VCALENDAR