BEGIN:VCALENDAR
VERSION:2.0
PRODID:-//Fiat Club America - Green &amp; White Mountains - ECPv6.15.20//NONSGML v1.0//EN
CALSCALE:GREGORIAN
METHOD:PUBLISH
X-WR-CALNAME:Fiat Club America - Green &amp; White Mountains
X-ORIGINAL-URL:http://fiatclubgwm.com
X-WR-CALDESC:Events for Fiat Club America - Green &amp; White Mountains
REFRESH-INTERVAL;VALUE=DURATION:PT1H
X-Robots-Tag:noindex
X-PUBLISHED-TTL:PT1H
BEGIN:VTIMEZONE
TZID:America/Halifax
BEGIN:DAYLIGHT
TZOFFSETFROM:-0400
TZOFFSETTO:-0300
TZNAME:ADT
DTSTART:20240310T060000
END:DAYLIGHT
BEGIN:STANDARD
TZOFFSETFROM:-0300
TZOFFSETTO:-0400
TZNAME:AST
DTSTART:20241103T050000
END:STANDARD
BEGIN:DAYLIGHT
TZOFFSETFROM:-0400
TZOFFSETTO:-0300
TZNAME:ADT
DTSTART:20250309T060000
END:DAYLIGHT
BEGIN:STANDARD
TZOFFSETFROM:-0300
TZOFFSETTO:-0400
TZNAME:AST
DTSTART:20251102T050000
END:STANDARD
BEGIN:DAYLIGHT
TZOFFSETFROM:-0400
TZOFFSETTO:-0300
TZNAME:ADT
DTSTART:20260308T060000
END:DAYLIGHT
BEGIN:STANDARD
TZOFFSETFROM:-0300
TZOFFSETTO:-0400
TZNAME:AST
DTSTART:20261101T050000
END:STANDARD
END:VTIMEZONE
BEGIN:VEVENT
DTSTART;VALUE=DATE:20250803
DTEND;VALUE=DATE:20250804
DTSTAMP:20260423T085110
CREATED:20250302T133043Z
LAST-MODIFIED:20250721T010048Z
UID:1114-1754179200-1754265599@fiatclubgwm.com
SUMMARY:Tutto Italiano - Larz Anderson museum
DESCRIPTION:Time & Location\n\n\nAug 03\, 2025\, 9:00 AM \nLarz Anderson Auto Museum\, 15 Newton St\, Brookline\, MA 02445\, USA \n\n\n\nThe Details\n\n\n\nCalling all Italian car and motorcycle fans! Get ready for a thrilling day celebrating Italian style and performance at the Larz Anderson Auto Museum on Sunday\, August 3\, 2025 from 9am to 1pm. See the best Italian cars and bikes\, enjoy delicious food from Putterham Grille\, listen to great music\, and explore unique Italian products from various vendors. Don’t miss out on a day full of excitement and Italian passion! \n\nhttps://www.larzanderson.org/event-details/tuttoitaliano \n 
URL:http://fiatclubgwm.com/event/tutto-italiano-larz-anderson-museum
LOCATION:NH
END:VEVENT
BEGIN:VEVENT
DTSTART;TZID=America/Halifax:20250809T090000
DTEND;TZID=America/Halifax:20250809T150000
DTSTAMP:20260423T085110
CREATED:20250719T152243Z
LAST-MODIFIED:20250719T152243Z
UID:1178-1754730000-1754751600@fiatclubgwm.com
SUMMARY:Gardens Drive Loudon
DESCRIPTION:A fun back roads that bring you to beautiful summer gardens\, you won’t want to miss this one. \nMeet: around 9:00 AM at the Irving off Exit 3 on 101. \nDepart: 9:15 for a back roads cruise\, to Pleasant View Gardens\, Inc.\n7316 Pleasant St. Loudon\, NH 03307 \nAfter lunch we’ll continue our back roads cruise\, to the Racing museum\, NH.
URL:http://fiatclubgwm.com/event/gardens-drive-loudon
LOCATION:NH
ATTACH;FMTTYPE=image/jpeg:http://fiatclubgwm.com/wp-content/uploads/2025/07/pleasant-view-2.jpg
END:VEVENT
BEGIN:VEVENT
DTSTART;TZID=America/Halifax:20250816T093000
DTEND;TZID=America/Halifax:20250816T140000
DTSTAMP:20260423T085110
CREATED:20250302T132228Z
LAST-MODIFIED:20250811T143240Z
UID:1108-1755336600-1755352800@fiatclubgwm.com
SUMMARY:Central Vermont Drive with John Hilferty
DESCRIPTION:Enjoy an 80-mile cruise following some nice twisty roads through the small towns of central Vermont on our way to West Woodstock and the White Cottage Snack Bar for lunch.\n\nhttps://whitecottagesnackbar.com/menu/ \nDepart: Jiffy Mart/Subway/Mobil 9:30 AM \nAfter lunch\, we’ll continue our drive ending in South Royalton\, VT. \n\n\n\n\n\nStart Location:\nStart: Jiffy Mart/Subway/Mobil\n301 VT-131\, Springfield\, VT 05156\nExit 8 off I-91
URL:http://fiatclubgwm.com/event/central-vermont-drive
LOCATION:NH
ATTACH;FMTTYPE=image/jpeg:http://fiatclubgwm.com/wp-content/uploads/2025/03/image1.jpeg
END:VEVENT
BEGIN:VEVENT
DTSTART;VALUE=DATE:20250828
DTEND;VALUE=DATE:20250902
DTSTAMP:20260423T085110
CREATED:20241201T150530Z
LAST-MODIFIED:20250302T133838Z
UID:1056-1756339200-1756771199@fiatclubgwm.com
SUMMARY:Lime Rock Historic Festival 42 / Drive with Northeast Coast Chapter
DESCRIPTION:Friday\, Drive to Lime Rock area\, Saturday\, Drive with Northeast Coast Chapter\, Sunday\, Lime Rock car show\, Monday\, Italian Car Corral\, Parade Laps\, Vintage Races. Drive home Monday afternoon. \nThursday\, August 28 \n\nVintage Racecar & Sports Car parade through Lakeville & Salisbury\nStreet Fair in Falls Village\n\nFriday\, August 29 \n\nPractice & Qualifying\nSwap Meet\nParticipant Cocktail Party & Dinner\n\n\n\n\n\n\n\nSaturday\, August 30 \n\nAll-day racing\nSwap Meet\n\nSunday\, August 31 \n\nSunday in the Park Concours\nGathering of the Marques\nSwap Meet\n\nMonday\, September 1 \n\nAll-day racing\n\n\nHistoric Festival 44
URL:http://fiatclubgwm.com/event/lime-rock-historic-festival-42
LOCATION:NH
ATTACH;FMTTYPE=image/png:http://fiatclubgwm.com/wp-content/uploads/2024/12/Lime_Rock-X1-9.png
END:VEVENT
END:VCALENDAR